BEGIN:VCALENDAR
VERSION:2.0
PRODID:-//MTV Schweringen von 1921 e.V. - ECPv6.15.20//NONSGML v1.0//EN
CALSCALE:GREGORIAN
METHOD:PUBLISH
X-WR-CALNAME:MTV Schweringen von 1921 e.V.
X-ORIGINAL-URL:https://mtvschweringen.de
X-WR-CALDESC:Veranstaltungen für MTV Schweringen von 1921 e.V.
REFRESH-INTERVAL;VALUE=DURATION:PT1H
X-Robots-Tag:noindex
X-PUBLISHED-TTL:PT1H
BEGIN:VTIMEZONE
TZID:Europe/Berlin
BEGIN:DAYLIGHT
TZOFFSETFROM:+0100
TZOFFSETTO:+0200
TZNAME:CEST
DTSTART:20240331T010000
END:DAYLIGHT
BEGIN:STANDARD
TZOFFSETFROM:+0200
TZOFFSETTO:+0100
TZNAME:CET
DTSTART:20241027T010000
END:STANDARD
BEGIN:DAYLIGHT
TZOFFSETFROM:+0100
TZOFFSETTO:+0200
TZNAME:CEST
DTSTART:20250330T010000
END:DAYLIGHT
BEGIN:STANDARD
TZOFFSETFROM:+0200
TZOFFSETTO:+0100
TZNAME:CET
DTSTART:20251026T010000
END:STANDARD
BEGIN:DAYLIGHT
TZOFFSETFROM:+0100
TZOFFSETTO:+0200
TZNAME:CEST
DTSTART:20260329T010000
END:DAYLIGHT
BEGIN:STANDARD
TZOFFSETFROM:+0200
TZOFFSETTO:+0100
TZNAME:CET
DTSTART:20261025T010000
END:STANDARD
END:VTIMEZONE
BEGIN:VEVENT
DTSTART;TZID=Europe/Berlin:20250509T183000
DTEND;TZID=Europe/Berlin:20250509T203000
DTSTAMP:20260426T003256
CREATED:20250502T163209Z
LAST-MODIFIED:20250502T163209Z
UID:994-1746815400-1746822600@mtvschweringen.de
SUMMARY:Gemeinsam gegen Gewalt im Verein
DESCRIPTION:Liebe Vereinsmitglieder\, liebe Eltern\, \nwir laden Euch herzlich zu einer wichtigen Informations- und Austauschveranstaltung ein: \nWann: 09.05.2025 um 18:30 Uhr\nWo: DGH Schweringen \nAls Verein tragen wir eine besondere Verantwortung für das Wohlergehen der uns anvertrauten Kinder und Jugendlichen\, sowie von Erwachsenen. \nUm dieser Verantwortung gerecht zu werden\, entwickeln wir derzeit ein umfassendes Schutzkonzept gegen Gewalt\, Grenzverletzungen und sexualisierte Übergriffe im Vereinsumfeld. \nAn diesem Abend möchten wir Euch über die Hintergründe\, Ziele und konkreten Maßnahmen unseres Schutzkonzepts informieren und eine Risikoanalyse durchführen.  \nAußerdem möchten wir gemeinsam mit Euch darüber sprechen\, wie wir im Verein eine Kultur des Hinsehens\, der Achtsamkeit und des Vertrauens fördern können. \nEure Teilnahme ist uns wichtig – denn Kinderschutz ist Teamsache. \nWir freuen uns auf einen konstruktiven und offenen Austausch mit Euch.
URL:https://mtvschweringen.de/event/gemeinsam-gegen-gewalt-im-verein/
LOCATION:Dorfgemeinschaftshaus Schweringen\, Dorfstraße 6\, Schweringen\, 27333\, Germany
ATTACH;FMTTYPE=image/jpeg:https://mtvschweringen.de/wp-content/uploads/2025/05/MTV_GemeinsamGegenGewaltImVerein.jpg
END:VEVENT
END:VCALENDAR