BEGIN:VCALENDAR
VERSION:2.0
PRODID:-//MTV Schweringen von 1921 e.V. - ECPv6.15.20//NONSGML v1.0//EN
CALSCALE:GREGORIAN
METHOD:PUBLISH
X-WR-CALNAME:MTV Schweringen von 1921 e.V.
X-ORIGINAL-URL:https://mtvschweringen.de
X-WR-CALDESC:Veranstaltungen für MTV Schweringen von 1921 e.V.
REFRESH-INTERVAL;VALUE=DURATION:PT1H
X-Robots-Tag:noindex
X-PUBLISHED-TTL:PT1H
BEGIN:VTIMEZONE
TZID:Europe/Berlin
BEGIN:DAYLIGHT
TZOFFSETFROM:+0100
TZOFFSETTO:+0200
TZNAME:CEST
DTSTART:20250330T010000
END:DAYLIGHT
BEGIN:STANDARD
TZOFFSETFROM:+0200
TZOFFSETTO:+0100
TZNAME:CET
DTSTART:20251026T010000
END:STANDARD
BEGIN:DAYLIGHT
TZOFFSETFROM:+0100
TZOFFSETTO:+0200
TZNAME:CEST
DTSTART:20260329T010000
END:DAYLIGHT
BEGIN:STANDARD
TZOFFSETFROM:+0200
TZOFFSETTO:+0100
TZNAME:CET
DTSTART:20261025T010000
END:STANDARD
BEGIN:DAYLIGHT
TZOFFSETFROM:+0100
TZOFFSETTO:+0200
TZNAME:CEST
DTSTART:20270328T010000
END:DAYLIGHT
BEGIN:STANDARD
TZOFFSETFROM:+0200
TZOFFSETTO:+0100
TZNAME:CET
DTSTART:20271031T010000
END:STANDARD
END:VTIMEZONE
BEGIN:VEVENT
DTSTART;TZID=Europe/Berlin:20260214T150000
DTEND;TZID=Europe/Berlin:20260214T220000
DTSTAMP:20260425T125812
CREATED:20251026T110544Z
LAST-MODIFIED:20260105T173748Z
UID:1170-1771081200-1771106400@mtvschweringen.de
SUMMARY:Kohltour
DESCRIPTION:Der MTV Schweringen lädt herzlich zur Kohltour 2026 ein. \nUm 15 Uhr treffen wir uns an der Sporthalle. Für diejenigen\, die nicht mitlaufen möchten\, startet das Essen um 18 Uhr im Dorfgemeinschaftshaus (DGH). \nAlternativ zum Grünkohl\, kann auch Schnitzel gegessen werden. \nDer Unkostenbeitrag i.H.v. 30\,00€ ist Vorort zu entrichten. Im Preis sind Essen und Getränke inklusive. \nWir freuen uns auf euch.
URL:https://mtvschweringen.de/event/kohltour-2/
LOCATION:Dorfgemeinschaftshaus Schweringen\, Dorfstraße 6\, Schweringen\, 27333\, Germany
ORGANIZER;CN="MTV Schweringen von 1921 e.V.":MAILTO:veranstaltungen@mtvschweringen.de
END:VEVENT
END:VCALENDAR