BEGIN:VCALENDAR
VERSION:2.0
PRODID:-//MTV Schweringen von 1921 e.V. - ECPv6.15.20//NONSGML v1.0//EN
CALSCALE:GREGORIAN
METHOD:PUBLISH
X-WR-CALNAME:MTV Schweringen von 1921 e.V.
X-ORIGINAL-URL:https://mtvschweringen.de
X-WR-CALDESC:Veranstaltungen für MTV Schweringen von 1921 e.V.
REFRESH-INTERVAL;VALUE=DURATION:PT1H
X-Robots-Tag:noindex
X-PUBLISHED-TTL:PT1H
BEGIN:VTIMEZONE
TZID:Europe/Berlin
BEGIN:DAYLIGHT
TZOFFSETFROM:+0100
TZOFFSETTO:+0200
TZNAME:CEST
DTSTART:20250330T010000
END:DAYLIGHT
BEGIN:STANDARD
TZOFFSETFROM:+0200
TZOFFSETTO:+0100
TZNAME:CET
DTSTART:20251026T010000
END:STANDARD
BEGIN:DAYLIGHT
TZOFFSETFROM:+0100
TZOFFSETTO:+0200
TZNAME:CEST
DTSTART:20260329T010000
END:DAYLIGHT
BEGIN:STANDARD
TZOFFSETFROM:+0200
TZOFFSETTO:+0100
TZNAME:CET
DTSTART:20261025T010000
END:STANDARD
BEGIN:DAYLIGHT
TZOFFSETFROM:+0100
TZOFFSETTO:+0200
TZNAME:CEST
DTSTART:20270328T010000
END:DAYLIGHT
BEGIN:STANDARD
TZOFFSETFROM:+0200
TZOFFSETTO:+0100
TZNAME:CET
DTSTART:20271031T010000
END:STANDARD
END:VTIMEZONE
BEGIN:VEVENT
DTSTART;VALUE=DATE:20260612
DTEND;VALUE=DATE:20260615
DTSTAMP:20260421T163358
CREATED:20251026T110906Z
LAST-MODIFIED:20260221T184425Z
UID:1176-1781222400-1781481599@mtvschweringen.de
SUMMARY:Sporttage
DESCRIPTION:Informationen zur Veranstaltung folgen…
URL:https://mtvschweringen.de/event/sporttage-2/
CATEGORIES:MTV Schweringen
ORGANIZER;CN="MTV Schweringen von 1921 e.V.":MAILTO:veranstaltungen@mtvschweringen.de
END:VEVENT
END:VCALENDAR