BEGIN:VCALENDAR
VERSION:2.0
PRODID:-//MTV Schweringen von 1921 e.V. - ECPv6.15.20//NONSGML v1.0//EN
CALSCALE:GREGORIAN
METHOD:PUBLISH
X-ORIGINAL-URL:https://mtvschweringen.de
X-WR-CALDESC:Veranstaltungen für MTV Schweringen von 1921 e.V.
REFRESH-INTERVAL;VALUE=DURATION:PT1H
X-Robots-Tag:noindex
X-PUBLISHED-TTL:PT1H
BEGIN:VTIMEZONE
TZID:Europe/Berlin
BEGIN:DAYLIGHT
TZOFFSETFROM:+0100
TZOFFSETTO:+0200
TZNAME:CEST
DTSTART:20240331T010000
END:DAYLIGHT
BEGIN:STANDARD
TZOFFSETFROM:+0200
TZOFFSETTO:+0100
TZNAME:CET
DTSTART:20241027T010000
END:STANDARD
BEGIN:DAYLIGHT
TZOFFSETFROM:+0100
TZOFFSETTO:+0200
TZNAME:CEST
DTSTART:20250330T010000
END:DAYLIGHT
BEGIN:STANDARD
TZOFFSETFROM:+0200
TZOFFSETTO:+0100
TZNAME:CET
DTSTART:20251026T010000
END:STANDARD
BEGIN:DAYLIGHT
TZOFFSETFROM:+0100
TZOFFSETTO:+0200
TZNAME:CEST
DTSTART:20260329T010000
END:DAYLIGHT
BEGIN:STANDARD
TZOFFSETFROM:+0200
TZOFFSETTO:+0100
TZNAME:CET
DTSTART:20261025T010000
END:STANDARD
END:VTIMEZONE
BEGIN:VEVENT
DTSTART;TZID=Europe/Berlin:20251101T130000
DTEND;TZID=Europe/Berlin:20251101T160000
DTSTAMP:20260425T153938
CREATED:20251005T135729Z
LAST-MODIFIED:20251005T162348Z
UID:1138-1762002000-1762012800@mtvschweringen.de
SUMMARY:Defencelab Seminar
DESCRIPTION:📣 DEFENCELAB SEMINAR IN SCHWERINGEN 🥋💥 \nhttps://mtvschweringen.de/wp-content/uploads/2025/10/fa6d7ba6-8e40-4c31-9e07-a56ea34710b7.mp4\nAm 01.11.2025 ist es soweit! Von 13:00 bis 16:00 Uhr erwartet dich in Schweringen ein intensives Defencelab Seminar.\nLerne effektive Selbstverteidigungstechniken\, verbessere deine Fitness und stärke dein Selbstbewusstsein – egal ob Anfänger oder Fortgeschrittener.\n💰 Teilnahmegebühr: 45 €\n📍 Ort: Schweringen\n🗓 Datum: 01.11.2025\n⏰ Zeit: 13:00 – 16:00 Uhr\n⚠️ Die Plätze sind begrenzt – sichere dir jetzt deinen Platz!\n📩 Anmeldung/Infos: Thomas Panke ( modern-arnis@mtvschweringen.de )
URL:https://mtvschweringen.de/event/defencelab-seminar/
LOCATION:Sporthalle Schweringen\, Dorfstraße 6\, Schweringen\, 27333\, Germany
CATEGORIES:Modern Arnis
END:VEVENT
BEGIN:VEVENT
DTSTART;TZID=Europe/Berlin:20251108T170000
DTEND;TZID=Europe/Berlin:20251108T190000
DTSTAMP:20260425T153938
CREATED:20241126T114330Z
LAST-MODIFIED:20251108T081200Z
UID:575-1762621200-1762628400@mtvschweringen.de
SUMMARY:Laternenumzug
DESCRIPTION:Der MTV Schweringen lädt herzlich zum diesjährigen Laternenumzug ein. \n  \nLiedtexte zum mitsingen:
URL:https://mtvschweringen.de/event/laternenumzug/
LOCATION:Dorfgemeinschaftshaus Schweringen\, Dorfstraße 6\, Schweringen\, 27333\, Germany
CATEGORIES:MTV Schweringen
ATTACH;FMTTYPE=image/jpeg:https://mtvschweringen.de/wp-content/uploads/2024/11/MTV_Laternenumzug_2025-1.jpg
ORGANIZER;CN="MTV Schweringen von 1921 e.V.":MAILTO:veranstaltungen@mtvschweringen.de
END:VEVENT
END:VCALENDAR